BEGIN:VCALENDAR
VERSION:2.0
PRODID:-//Kalender-Script//NONSGML Cal V.3//EN
CALSCALE:GREGORIAN
METHOD:PUBLISH
X-WR-CALNAME:Termin_24
X-WR-TIMEZONE:Europe/Berlin
BEGIN:VTIMEZONE
TZID:Europe/Berlin
X-LIC-LOCATION:Europe/Berlin
BEGIN:DAYLIGHT
TZOFFSETFROM:+0100
TZOFFSETTO:+0200
DTSTART:19700329T020000
RRULE:FREQ=YEARLY;INTERVAL=1;BYDAY=-1SU;BYMONTH=3
TZNAME:CEST
END:DAYLIGHT
BEGIN:STANDARD
TZOFFSETFROM:+0200
TZOFFSETTO:+0100
DTSTART:19701025T030000
RRULE:FREQ=YEARLY;INTERVAL=1;BYDAY=-1SU;BYMONTH=10
TZNAME:CET
END:STANDARD
END:VTIMEZONE
BEGIN:VEVENT
UID:termin_585@fidelefreunde.eu
CLASS:PUBLIC
DTSTART;TZID=Europe/Berlin:20260419T130000
DTEND;TZID=Europe/Berlin:20260419T150000
DTSTAMP:20260422T045300Z
SUMMARY:Vorstandsversammlung
DESCRIPTION:Vorstandsversammlung\n\nhttp://fidelefreunde.eu/kalender.php?kal_Aktion=detail&kal_Intervall=%5B%5D&kal_Nummer=585
LOCATION:Vereinsheim
URL;VALUE=URI:http://fidelefreunde.eu/kalender.php?kal_Aktion=detail&kal_Intervall=%5B%5D&kal_Nummer=585
END:VEVENT
BEGIN:VEVENT
UID:termin_571@fidelefreunde.eu
CLASS:PUBLIC
DTSTART;TZID=Europe/Berlin:20260419T150000
DTEND;TZID=Europe/Berlin:20260419T170000
DTSTAMP:20260422T045300Z
SUMMARY:Jahreshauptversammlung
DESCRIPTION:Jahreshauptversammlung\n\nhttp://fidelefreunde.eu/kalender.php?kal_Aktion=detail&kal_Intervall=%5B%5D&kal_Nummer=571
LOCATION:Vereinsheim Zeppelinstraße
URL;VALUE=URI:http://fidelefreunde.eu/kalender.php?kal_Aktion=detail&kal_Intervall=%5B%5D&kal_Nummer=571
END:VEVENT
BEGIN:VEVENT
UID:termin_572@fidelefreunde.eu
CLASS:PUBLIC
DTSTART;TZID=Europe/Berlin:20260514T080000
DTEND;TZID=Europe/Berlin:20260514T100000
DTSTAMP:20260422T045300Z
SUMMARY:Vatertag
DESCRIPTION:Vatertag\n\nhttp://fidelefreunde.eu/kalender.php?kal_Aktion=detail&kal_Intervall=%5B%5D&kal_Nummer=572
LOCATION:Vereinsheim Zeppelinstraße
URL;VALUE=URI:http://fidelefreunde.eu/kalender.php?kal_Aktion=detail&kal_Intervall=%5B%5D&kal_Nummer=572
END:VEVENT
BEGIN:VEVENT
UID:termin_582@fidelefreunde.eu
CLASS:PUBLIC
DTSTART;TZID=Europe/Berlin:20261107T211500
DTEND;TZID=Europe/Berlin:20261107T231500
DTSTAMP:20260422T045300Z
SUMMARY:Ordensfest KG Aachener Narrengilde
DESCRIPTION:Ordensfest KG Aachener Narrengilde\n\nhttp://fidelefreunde.eu/kalender.php?kal_Aktion=detail&kal_Intervall=%5B%5D&kal_Nummer=582
LOCATION:OT Josefshaus
URL;VALUE=URI:http://fidelefreunde.eu/kalender.php?kal_Aktion=detail&kal_Intervall=%5B%5D&kal_Nummer=582
END:VEVENT
BEGIN:VEVENT
UID:termin_583@fidelefreunde.eu
CLASS:PUBLIC
DTSTART;TZID=Europe/Berlin:20261108T120000
DTEND;TZID=Europe/Berlin:20261108T140000
DTSTAMP:20260422T045300Z
SUMMARY:Biwak KG Aachener Narrengilde
DESCRIPTION:Biwak KG Aachener Narrengilde\n\nhttp://fidelefreunde.eu/kalender.php?kal_Aktion=detail&kal_Intervall=%5B%5D&kal_Nummer=583
LOCATION:OT Josefshaus
URL;VALUE=URI:http://fidelefreunde.eu/kalender.php?kal_Aktion=detail&kal_Intervall=%5B%5D&kal_Nummer=583
END:VEVENT
BEGIN:VEVENT
UID:termin_573@fidelefreunde.eu
CLASS:PUBLIC
DTSTART;TZID=Europe/Berlin:20261114T080000
DTEND;TZID=Europe/Berlin:20261114T100000
DTSTAMP:20260422T045300Z
SUMMARY:Freundschaftstreffen
DESCRIPTION:Freundschaftstreffen\n\nhttp://fidelefreunde.eu/kalender.php?kal_Aktion=detail&kal_Intervall=%5B%5D&kal_Nummer=573
LOCATION:OT Josefshaus
URL;VALUE=URI:http://fidelefreunde.eu/kalender.php?kal_Aktion=detail&kal_Intervall=%5B%5D&kal_Nummer=573
END:VEVENT
BEGIN:VEVENT
UID:termin_578@fidelefreunde.eu
CLASS:PUBLIC
DTSTART;TZID=Europe/Berlin:20261121T080000
DTEND;TZID=Europe/Berlin:20261121T100000
DTSTAMP:20260422T045300Z
SUMMARY:Pripro Elena
DESCRIPTION:Pripro Elena\n\nhttp://fidelefreunde.eu/kalender.php?kal_Aktion=detail&kal_Intervall=%5B%5D&kal_Nummer=578
LOCATION:-
URL;VALUE=URI:http://fidelefreunde.eu/kalender.php?kal_Aktion=detail&kal_Intervall=%5B%5D&kal_Nummer=578
END:VEVENT
BEGIN:VEVENT
UID:termin_576@fidelefreunde.eu
CLASS:PUBLIC
DTSTART;TZID=Europe/Berlin:20261121T080000
DTEND;TZID=Europe/Berlin:20261121T100000
DTSTAMP:20260422T045300Z
SUMMARY:AKIKA Dance Cup
DESCRIPTION:AKIKA Dance Cup\n\nhttp://fidelefreunde.eu/kalender.php?kal_Aktion=detail&kal_Intervall=%5B%5D&kal_Nummer=576
LOCATION:Eurogress
URL;VALUE=URI:http://fidelefreunde.eu/kalender.php?kal_Aktion=detail&kal_Intervall=%5B%5D&kal_Nummer=576
END:VEVENT
BEGIN:VEVENT
UID:termin_588@fidelefreunde.eu
CLASS:PUBLIC
DTSTART;TZID=Europe/Berlin:20261128T144000
DTEND;TZID=Europe/Berlin:20261128T164000
DTSTAMP:20260422T045300Z
SUMMARY:Kinderordensfest KK Aachener Funkengarde
DESCRIPTION:Kinderordensfest KK Aachener Funkengarde\n\nhttp://fidelefreunde.eu/kalender.php?kal_Aktion=detail&kal_Intervall=%5B%5D&kal_Nummer=588
LOCATION:Gartenkolonie Sonnenscheinstr., Sonnenscheinstr 65, 52078 Aachen
URL;VALUE=URI:http://fidelefreunde.eu/kalender.php?kal_Aktion=detail&kal_Intervall=%5B%5D&kal_Nummer=588
END:VEVENT
BEGIN:VEVENT
UID:termin_589@fidelefreunde.eu
CLASS:PUBLIC
DTSTART;TZID=Europe/Berlin:20261128T194000
DTEND;TZID=Europe/Berlin:20261128T214000
DTSTAMP:20260422T045300Z
SUMMARY:Ordensfest KK Aachener Funkengarde
DESCRIPTION:Ordensfest KK Aachener Funkengarde\n\nhttp://fidelefreunde.eu/kalender.php?kal_Aktion=detail&kal_Intervall=%5B%5D&kal_Nummer=589
LOCATION:Gartenkolonie Sonnenscheinstr., Sonnenscheinstr 65, 52078 Aachen
URL;VALUE=URI:http://fidelefreunde.eu/kalender.php?kal_Aktion=detail&kal_Intervall=%5B%5D&kal_Nummer=589
END:VEVENT
BEGIN:VEVENT
UID:termin_574@fidelefreunde.eu
CLASS:PUBLIC
DTSTART;TZID=Europe/Berlin:20261212T080000
DTEND;TZID=Europe/Berlin:20261212T100000
DTSTAMP:20260422T045300Z
SUMMARY:Tanzturnier
DESCRIPTION:Tanzturnier\n\nhttp://fidelefreunde.eu/kalender.php?kal_Aktion=detail&kal_Intervall=%5B%5D&kal_Nummer=574
LOCATION:-
URL;VALUE=URI:http://fidelefreunde.eu/kalender.php?kal_Aktion=detail&kal_Intervall=%5B%5D&kal_Nummer=574
END:VEVENT
BEGIN:VEVENT
UID:termin_577@fidelefreunde.eu
CLASS:PUBLIC
DTSTART;TZID=Europe/Berlin:20270109T080000
DTEND;TZID=Europe/Berlin:20270109T100000
DTSTAMP:20260422T045300Z
SUMMARY:PriPro Willi
DESCRIPTION:PriPro Willi\n\nhttp://fidelefreunde.eu/kalender.php?kal_Aktion=detail&kal_Intervall=%5B%5D&kal_Nummer=577
LOCATION:Harbachtalhalle?
URL;VALUE=URI:http://fidelefreunde.eu/kalender.php?kal_Aktion=detail&kal_Intervall=%5B%5D&kal_Nummer=577
END:VEVENT
BEGIN:VEVENT
UID:termin_580@fidelefreunde.eu
CLASS:PUBLIC
DTSTART;TZID=Europe/Berlin:20270110T123000
DTEND;TZID=Europe/Berlin:20270110T143000
DTSTAMP:20260422T045300Z
SUMMARY:Matinee Au Ülle Würselen
DESCRIPTION:Matinee Au Ülle Würselen\n\nhttp://fidelefreunde.eu/kalender.php?kal_Aktion=detail&kal_Intervall=%5B%5D&kal_Nummer=580
LOCATION:Gymnasium Würselen
URL;VALUE=URI:http://fidelefreunde.eu/kalender.php?kal_Aktion=detail&kal_Intervall=%5B%5D&kal_Nummer=580
END:VEVENT
BEGIN:VEVENT
UID:termin_584@fidelefreunde.eu
CLASS:PUBLIC
DTSTART;TZID=Europe/Berlin:20270110T153000
DTEND;TZID=Europe/Berlin:20270110T173000
DTSTAMP:20260422T045300Z
SUMMARY:1. Biwak KG Lustige Blaumänner
DESCRIPTION:1. Biwak KG Lustige Blaumänner\n\nhttp://fidelefreunde.eu/kalender.php?kal_Aktion=detail&kal_Intervall=%5B%5D&kal_Nummer=584
LOCATION:Saalbau Kommer Forster Linde 55 52078 Aachen
URL;VALUE=URI:http://fidelefreunde.eu/kalender.php?kal_Aktion=detail&kal_Intervall=%5B%5D&kal_Nummer=584
END:VEVENT
BEGIN:VEVENT
UID:termin_575@fidelefreunde.eu
CLASS:PUBLIC
DTSTART;TZID=Europe/Berlin:20270117T080000
DTEND;TZID=Europe/Berlin:20270117T100000
DTSTAMP:20260422T045300Z
SUMMARY:Ball der Mariechen
DESCRIPTION:Ball der Mariechen\n\nhttp://fidelefreunde.eu/kalender.php?kal_Aktion=detail&kal_Intervall=%5B%5D&kal_Nummer=575
LOCATION:Eurogress
URL;VALUE=URI:http://fidelefreunde.eu/kalender.php?kal_Aktion=detail&kal_Intervall=%5B%5D&kal_Nummer=575
END:VEVENT
BEGIN:VEVENT
UID:termin_581@fidelefreunde.eu
CLASS:PUBLIC
DTSTART;TZID=Europe/Berlin:20270123T165000
DTEND;TZID=Europe/Berlin:20270123T185000
DTSTAMP:20260422T045300Z
SUMMARY:Biwak KG Forster Jonge
DESCRIPTION:Biwak KG Forster Jonge\n\nhttp://fidelefreunde.eu/kalender.php?kal_Aktion=detail&kal_Intervall=%5B%5D&kal_Nummer=581
LOCATION:St. Katharina, Forster Linde 5 in Aachen
URL;VALUE=URI:http://fidelefreunde.eu/kalender.php?kal_Aktion=detail&kal_Intervall=%5B%5D&kal_Nummer=581
END:VEVENT
BEGIN:VEVENT
UID:termin_579@fidelefreunde.eu
CLASS:PUBLIC
DTSTART;TZID=Europe/Berlin:20270123T080000
DTEND;TZID=Europe/Berlin:20270123T100000
DTSTAMP:20260422T045300Z
SUMMARY:Senatoren Abend / Karnevalistisches Biwak
DESCRIPTION:Senatoren Abend / Karnevalistisches Biwak\n\nhttp://fidelefreunde.eu/kalender.php?kal_Aktion=detail&kal_Intervall=%5B%5D&kal_Nummer=579
LOCATION:-
URL;VALUE=URI:http://fidelefreunde.eu/kalender.php?kal_Aktion=detail&kal_Intervall=%5B%5D&kal_Nummer=579
END:VEVENT
BEGIN:VEVENT
UID:termin_587@fidelefreunde.eu
CLASS:PUBLIC
DTSTART;TZID=Europe/Berlin:20270130T154000
DTEND;TZID=Europe/Berlin:20270130T174000
DTSTAMP:20260422T045300Z
SUMMARY:Kinderkostümfest KK Aachener Funkengarde
DESCRIPTION:Kinderkostümfest KK Aachener Funkengarde\n\nhttp://fidelefreunde.eu/kalender.php?kal_Aktion=detail&kal_Intervall=%5B%5D&kal_Nummer=587
LOCATION:Gartenkolonie Sonnenscheinstr., Sonnenscheinstr 65, 52078 Aachen
URL;VALUE=URI:http://fidelefreunde.eu/kalender.php?kal_Aktion=detail&kal_Intervall=%5B%5D&kal_Nummer=587
END:VEVENT
BEGIN:VEVENT
UID:termin_569@fidelefreunde.eu
CLASS:PUBLIC
DTSTART;TZID=Europe/Berlin:20270130T180500
DTEND;TZID=Europe/Berlin:20270130T200500
DTSTAMP:20260422T045300Z
SUMMARY:TSC Herzogenrath Merkstein
DESCRIPTION:TSC Herzogenrath Merkstein\n\nhttp://fidelefreunde.eu/kalender.php?kal_Aktion=detail&kal_Intervall=%5B%5D&kal_Nummer=569
LOCATION:Dietrich-Bonhoeffer-Schule in gleichnamiger Straße
URL;VALUE=URI:http://fidelefreunde.eu/kalender.php?kal_Aktion=detail&kal_Intervall=%5B%5D&kal_Nummer=569
END:VEVENT
BEGIN:VEVENT
UID:termin_586@fidelefreunde.eu
CLASS:PUBLIC
DTSTART;TZID=Europe/Berlin:20270130T212000
DTEND;TZID=Europe/Berlin:20270130T232000
DTSTAMP:20260422T045300Z
SUMMARY:Kostümfest KK Aachener Funkengarde
DESCRIPTION:Kostümfest KK Aachener Funkengarde\n\nhttp://fidelefreunde.eu/kalender.php?kal_Aktion=detail&kal_Intervall=%5B%5D&kal_Nummer=586
LOCATION:Gartenkolonie Sonnenscheinstr., Sonnenscheinstr 65, 52078 Aachen
URL;VALUE=URI:http://fidelefreunde.eu/kalender.php?kal_Aktion=detail&kal_Intervall=%5B%5D&kal_Nummer=586
END:VEVENT
BEGIN:VEVENT
UID:termin_570@fidelefreunde.eu
CLASS:PUBLIC
DTSTART;TZID=Europe/Berlin:20270131T121500
DTEND;TZID=Europe/Berlin:20270131T141500
DTSTAMP:20260422T045300Z
SUMMARY:Biwak KG Lustige Atschinesen
DESCRIPTION:Biwak KG Lustige Atschinesen\n\nhttp://fidelefreunde.eu/kalender.php?kal_Aktion=detail&kal_Intervall=%5B%5D&kal_Nummer=570
LOCATION:Mehrzweckhalle Atsch
URL;VALUE=URI:http://fidelefreunde.eu/kalender.php?kal_Aktion=detail&kal_Intervall=%5B%5D&kal_Nummer=570
END:VEVENT
END:VCALENDAR
